BEGIN:VCALENDAR
VERSION:2.0
PRODID:-//DP Pro Event Calendar//3.2.7//EN
BEGIN:VEVENT
UID:bad11863-4814-44b5-8067-ca20fc15cf49
DTSTART;TZID=Europe/Zurich:20240731T160000
DTEND;TZID=Europe/Zurich:20240731T160000
DTSTAMP:20240208T064450Z
SUMMARY:Bundesfeier
DESCRIPTION:Bundesfeier in St.Georgen ? 31. Juli 2023 | TVSG (bundes-feier.ch)
LOCATION:
URL:
END:VEVENT
END:VCALENDAR